BEGIN:VCALENDAR
VERSION:2.0
PRODID:-//Förderverein der Lietzensee Schule Berlin-Charlottenburg - ECPv5.1.0//NONSGML v1.0//EN
CALSCALE:GREGORIAN
METHOD:PUBLISH
X-WR-CALNAME:Förderverein der Lietzensee Schule Berlin-Charlottenburg
X-ORIGINAL-URL:https://lietzensee-schule.de
X-WR-CALDESC:Veranstaltungen im Förderverein der Lietzensee Schule Berlin-Charlottenburg
BEGIN:VTIMEZONE
TZID:Europe/Berlin
BEGIN:DAYLIGHT
TZOFFSETFROM:+0100
TZOFFSETTO:+0200
TZNAME:CEST
DTSTART:20150329T010000
END:DAYLIGHT
BEGIN:STANDARD
TZOFFSETFROM:+0200
TZOFFSETTO:+0100
TZNAME:CET
DTSTART:20151025T010000
END:STANDARD
END:VTIMEZONE
BEGIN:VEVENT
DTSTART;TZID=Europe/Berlin:20151202T080000
DTEND;TZID=Europe/Berlin:20151202T124000
DTSTAMP:20260420T211523
CREATED:20151126T195251Z
LAST-MODIFIED:20151126T195251Z
UID:1282-1449043200-1449060000@lietzensee-schule.de
SUMMARY:YoBEKA
DESCRIPTION:Für JüL und 3. Klassen \n
URL:https://lietzensee-schule.de/event/yobeka-2/
END:VEVENT
END:VCALENDAR