BEGIN:VCALENDAR
VERSION:2.0
PRODID:-//Förderverein der Lietzensee Schule Berlin-Charlottenburg - ECPv5.1.0//NONSGML v1.0//EN
CALSCALE:GREGORIAN
METHOD:PUBLISH
X-WR-CALNAME:Förderverein der Lietzensee Schule Berlin-Charlottenburg
X-ORIGINAL-URL:https://lietzensee-schule.de
X-WR-CALDESC:Veranstaltungen im Förderverein der Lietzensee Schule Berlin-Charlottenburg
BEGIN:VTIMEZONE
TZID:Europe/Berlin
BEGIN:DAYLIGHT
TZOFFSETFROM:+0100
TZOFFSETTO:+0200
TZNAME:CEST
DTSTART:20150329T010000
END:DAYLIGHT
BEGIN:STANDARD
TZOFFSETFROM:+0200
TZOFFSETTO:+0100
TZNAME:CET
DTSTART:20151025T010000
END:STANDARD
END:VTIMEZONE
BEGIN:VEVENT
DTSTART;TZID=Europe/Berlin:20151115T080000
DTEND;TZID=Europe/Berlin:20151115T080000
DTSTAMP:20260421T054927
CREATED:20151013T102100Z
LAST-MODIFIED:20151013T102100Z
UID:1102-1447574400-1447574400@lietzensee-schule.de
SUMMARY:Volkstrauertag
DESCRIPTION:
URL:https://lietzensee-schule.de/event/volkstrauertag/
END:VEVENT
END:VCALENDAR