BEGIN:VCALENDAR
VERSION:2.0
PRODID:-//Förderverein der Lietzensee Schule Berlin-Charlottenburg - ECPv5.1.0//NONSGML v1.0//EN
CALSCALE:GREGORIAN
METHOD:PUBLISH
X-WR-CALNAME:Förderverein der Lietzensee Schule Berlin-Charlottenburg
X-ORIGINAL-URL:https://lietzensee-schule.de
X-WR-CALDESC:Veranstaltungen im Förderverein der Lietzensee Schule Berlin-Charlottenburg
BEGIN:VTIMEZONE
TZID:Europe/Berlin
BEGIN:DAYLIGHT
TZOFFSETFROM:+0100
TZOFFSETTO:+0200
TZNAME:CEST
DTSTART:20150329T010000
END:DAYLIGHT
BEGIN:STANDARD
TZOFFSETFROM:+0200
TZOFFSETTO:+0100
TZNAME:CET
DTSTART:20151025T010000
END:STANDARD
END:VTIMEZONE
BEGIN:VEVENT
DTSTART;TZID=Europe/Berlin:20151204T150000
DTEND;TZID=Europe/Berlin:20151204T180000
DTSTAMP:20260421T030824
CREATED:20151122T194732Z
LAST-MODIFIED:20151122T194835Z
UID:1161-1449241200-1449252000@lietzensee-schule.de
SUMMARY:Schulisches Weihnachtsfest
DESCRIPTION:In allen Klassen und im Hort werden weihnachtliche Basteleien als Mitmachangebote präsentiert. Keks- und Kaffeeduft wird daneben durchs Haus ziehen… \nEin gemeinsamer Beginn und ein gemeinsames Ende mit Musik rundet unseren Nachmittag ab. \n
URL:https://lietzensee-schule.de/event/schulisches-weihnachtsfest-2/
END:VEVENT
END:VCALENDAR