BEGIN:VCALENDAR
VERSION:2.0
PRODID:-//Förderverein der Lietzensee Schule Berlin-Charlottenburg - ECPv5.1.0//NONSGML v1.0//EN
CALSCALE:GREGORIAN
METHOD:PUBLISH
X-WR-CALNAME:Förderverein der Lietzensee Schule Berlin-Charlottenburg
X-ORIGINAL-URL:https://lietzensee-schule.de
X-WR-CALDESC:Veranstaltungen im Förderverein der Lietzensee Schule Berlin-Charlottenburg
BEGIN:VTIMEZONE
TZID:Europe/Berlin
BEGIN:DAYLIGHT
TZOFFSETFROM:+0100
TZOFFSETTO:+0200
TZNAME:CEST
DTSTART:20150329T010000
END:DAYLIGHT
BEGIN:STANDARD
TZOFFSETFROM:+0200
TZOFFSETTO:+0100
TZNAME:CET
DTSTART:20151025T010000
END:STANDARD
END:VTIMEZONE
BEGIN:VEVENT
DTSTART;VALUE=DATE:20151210
DTEND;VALUE=DATE:20151211
DTSTAMP:20260421T123319
CREATED:20151126T201551Z
LAST-MODIFIED:20151126T201551Z
UID:1287-1449705600-1449791999@lietzensee-schule.de
SUMMARY:Robert Bosch Stiftung - Päd. Werkstätten: Heterogenität: "Bilanz"
DESCRIPTION:
URL:https://lietzensee-schule.de/event/robert-bosch-stiftung-paed-werkstaetten-heterogenitaet-bilanz/
END:VEVENT
END:VCALENDAR