BEGIN:VCALENDAR
VERSION:2.0
PRODID:-//Förderverein der Lietzensee Schule Berlin-Charlottenburg - ECPv5.1.0//NONSGML v1.0//EN
CALSCALE:GREGORIAN
METHOD:PUBLISH
X-WR-CALNAME:Förderverein der Lietzensee Schule Berlin-Charlottenburg
X-ORIGINAL-URL:https://lietzensee-schule.de
X-WR-CALDESC:Veranstaltungen im Förderverein der Lietzensee Schule Berlin-Charlottenburg
BEGIN:VTIMEZONE
TZID:Europe/Berlin
BEGIN:DAYLIGHT
TZOFFSETFROM:+0100
TZOFFSETTO:+0200
TZNAME:CEST
DTSTART:20150329T010000
END:DAYLIGHT
BEGIN:STANDARD
TZOFFSETFROM:+0200
TZOFFSETTO:+0100
TZNAME:CET
DTSTART:20151025T010000
END:STANDARD
END:VTIMEZONE
BEGIN:VEVENT
DTSTART;TZID=Europe/Berlin:20151109T080000
DTEND;TZID=Europe/Berlin:20151109T080000
DTSTAMP:20260421T135806
CREATED:20151013T090944Z
LAST-MODIFIED:20151013T091146Z
UID:1087-1447056000-1447056000@lietzensee-schule.de
SUMMARY:Ab heute: 4./5. Kl.: Schriftl. Erfassen des Lernstandes
DESCRIPTION:Ab heute:   4./5. Kl.:  Schriftl. Erfassen des Lernstandes \nAllen SchülerInnen und ihren Eltern geben wir zum 16.11.  eine “Herbsteinschätzung” zu ihrem derzeitigen Lern- und Leistungsstand. \n  \n
URL:https://lietzensee-schule.de/event/ab-heute-4-5-kl-schriftl-erfassen-des-lernstandes/
END:VEVENT
END:VCALENDAR